BEGIN:VCALENDAR
VERSION:2.0
PRODID:-//Gérard Foucher - ECPv4.7.4//NONSGML v1.0//EN
CALSCALE:GREGORIAN
METHOD:PUBLISH
X-WR-CALNAME:Gérard Foucher
X-ORIGINAL-URL:https://gerardfoucher.com
X-WR-CALDESC:Évènements pour Gérard Foucher
BEGIN:VEVENT
DTSTART;TZID=Europe/Paris:20160312T120000
DTEND;TZID=Europe/Paris:20160312T140000
DTSTAMP:20260423T225922
CREATED:20160126T223700Z
LAST-MODIFIED:20160126T223746Z
UID:4211-1457784000-1457791200@gerardfoucher.com
SUMMARY:12h-14h Conférence - Salon Vivre Autrement Parc Floral Vincennes
DESCRIPTION:12h-14h Conférence – Salon Vivre Autrement Parc Floral Vincennes \n
URL:https://gerardfoucher.com/event/12h-14h-conference-salon-vivre-autrement-parc-floral-vincennes/
LOCATION:Salon Vivre Autrement\, Parc Floral \, Vincennes\, 94300\, France
END:VEVENT
END:VCALENDAR