BEGIN:VCALENDAR
VERSION:2.0
PRODID:-//Gérard Foucher - ECPv4.7.4//NONSGML v1.0//EN
CALSCALE:GREGORIAN
METHOD:PUBLISH
X-WR-CALNAME:Gérard Foucher
X-ORIGINAL-URL:https://gerardfoucher.com
X-WR-CALDESC:Évènements pour Gérard Foucher
BEGIN:VEVENT
DTSTART;VALUE=DATE:20141004
DTEND;VALUE=DATE:20141006
DTSTAMP:20260421T142633
CREATED:20140829T233327Z
LAST-MODIFIED:20140829T233512Z
UID:3932-1412380800-1412553599@gerardfoucher.com
SUMMARY:Conférence Gesticulée au Festival Alternatiba à Lille 
DESCRIPTION:Alternatiba\, un festival des alternatives sociales\, économiques et écologiques. \n
URL:https://gerardfoucher.com/event/alternatiba-a-lille/
END:VEVENT
END:VCALENDAR