BEGIN:VCALENDAR
VERSION:2.0
PRODID:-//Gérard Foucher - ECPv4.7.4//NONSGML v1.0//EN
CALSCALE:GREGORIAN
METHOD:PUBLISH
X-WR-CALNAME:Gérard Foucher
X-ORIGINAL-URL:https://gerardfoucher.com
X-WR-CALDESC:Évènements pour Gérard Foucher
BEGIN:VEVENT
DTSTART;TZID=Europe/Paris:20150912T080000
DTEND;TZID=Europe/Paris:20150912T170000
DTSTAMP:20260422T192511
CREATED:20150604T201808Z
LAST-MODIFIED:20150604T201808Z
UID:4107-1442044800-1442077200@gerardfoucher.com
SUMMARY:Alternatiba Toulouse
DESCRIPTION: \n
URL:https://gerardfoucher.com/event/alternatiba-toulouse/
LOCATION:Unnamed Venue\, Toulouse\, France
END:VEVENT
END:VCALENDAR