BEGIN:VCALENDAR
VERSION:2.0
PRODID:-//Gérard Foucher - ECPv4.7.4//NONSGML v1.0//EN
CALSCALE:GREGORIAN
METHOD:PUBLISH
X-WR-CALNAME:Gérard Foucher
X-ORIGINAL-URL:https://gerardfoucher.com
X-WR-CALDESC:Évènements pour Gérard Foucher
BEGIN:VEVENT
DTSTART;TZID=Europe/Paris:20150620T160000
DTEND;TZID=Europe/Paris:20150620T193000
DTSTAMP:20260422T143948
CREATED:20150604T195825Z
LAST-MODIFIED:20150604T200034Z
UID:4100-1434816000-1434828600@gerardfoucher.com
SUMMARY:Animation - Atelier - Conférence - Débat en Avignon
DESCRIPTION:Pour la Grande fête des 2 ans des Colibris \n« Les colibris d’Avignon » \norganisent une journée \nAnimation – Atelier – Conférence – Débat \nsur l’économie\, la dette et la monnaie \nau parc des Libertés sur la Barthelasse \n  \n  \n  \n
URL:https://gerardfoucher.com/event/animation-atelier-conference-debat-en-avignon/
LOCATION:Parc des Libertés sur la Barthelasse\, 4682 Route de l'Islon\, 84000 Avignon\, Avignon\, 84000\, France
END:VEVENT
END:VCALENDAR