BEGIN:VCALENDAR
VERSION:2.0
PRODID:-//Gérard Foucher - ECPv4.7.4//NONSGML v1.0//EN
CALSCALE:GREGORIAN
METHOD:PUBLISH
X-WR-CALNAME:Gérard Foucher
X-ORIGINAL-URL:https://gerardfoucher.com
X-WR-CALDESC:Évènements pour Gérard Foucher
BEGIN:VEVENT
DTSTART;TZID=Europe/Paris:20151118T193000
DTEND;TZID=Europe/Paris:20151118T220000
DTSTAMP:20260423T071226
CREATED:20151117T091806Z
LAST-MODIFIED:20151117T091806Z
UID:4154-1447875000-1447884000@gerardfoucher.com
SUMMARY:Avranches le 18 novembre
DESCRIPTION:\nConférence Gesticulée de Gérard FOUCHER. \n18 Novembre 2015 à 19h30 \nà Avranches\, Salle Lenoël\n\n\n\n\n\n\n\n \n
URL:https://gerardfoucher.com/event/avranches-le-18-novembre/
LOCATION:Salle Lenoël\, Avranches\, 50300\, France
END:VEVENT
END:VCALENDAR