BEGIN:VCALENDAR
VERSION:2.0
PRODID:-//Gérard Foucher - ECPv4.7.4//NONSGML v1.0//EN
CALSCALE:GREGORIAN
METHOD:PUBLISH
X-WR-CALNAME:Gérard Foucher
X-ORIGINAL-URL:https://gerardfoucher.com
X-WR-CALDESC:Évènements pour Gérard Foucher
BEGIN:VEVENT
DTSTART;TZID=Europe/Paris:20160626T094500
DTEND;TZID=Europe/Paris:20160626T123000
DTSTAMP:20260424T003509
CREATED:20160616T090338Z
LAST-MODIFIED:20160624T142255Z
UID:4352-1466934300-1466944200@gerardfoucher.com
SUMMARY:Castres : conférence gesticulée
DESCRIPTION:Dimanche 26 juin: Intersel départemental à Castres\nCet intersel est co-organisé avec le Sel d’Albi\nLieu: Les ATELIERS \, rue Mérigonde à Castres\nConférence gesticulée sur le thème du « Revenu de base » avec la participation de Gérard Foucher auteur du livre: « Les secrets de la monnaie »\nhttp://confluences81.fr/2016/06/13/castres-conference-gesticulee/\n \n
URL:https://gerardfoucher.com/event/castres-conference-gesticulee/
LOCATION:Les Ateliers\, Rue Mérigonde\, Castres\, 81100\, France
ORGANIZER;CN="Troc%20Sel%20Castres":MAILTO:troc-sel.castres@laposte.net
END:VEVENT
END:VCALENDAR