BEGIN:VCALENDAR
VERSION:2.0
PRODID:-//Gérard Foucher - ECPv4.7.4//NONSGML v1.0//EN
CALSCALE:GREGORIAN
METHOD:PUBLISH
X-WR-CALNAME:Gérard Foucher
X-ORIGINAL-URL:https://gerardfoucher.com
X-WR-CALDESC:Évènements pour Gérard Foucher
BEGIN:VEVENT
DTSTART;TZID=Europe/Paris:20170128T203000
DTEND;TZID=Europe/Paris:20170128T223000
DTSTAMP:20260419T135041
CREATED:20161014T113934Z
LAST-MODIFIED:20170126T104438Z
UID:4463-1485635400-1485642600@gerardfoucher.com
SUMMARY:Conférence à Belley (Ain)
DESCRIPTION:Week-end sur la mondialisation\nConférence de Gérard Foucher le samedi 28 janvier à 20h30 \nprogramme détaillé Belley 2017 \nhttp://amisdelavie.org/2016/12/a-belley-finance-nuls-aspirine/ \n
URL:https://gerardfoucher.com/event/conference-a-belley-ain/
LOCATION:Belley\, 01300\, France
END:VEVENT
END:VCALENDAR