BEGIN:VCALENDAR
VERSION:2.0
PRODID:-//Gérard Foucher - ECPv4.7.4//NONSGML v1.0//EN
CALSCALE:GREGORIAN
METHOD:PUBLISH
X-WR-CALNAME:Gérard Foucher
X-ORIGINAL-URL:https://gerardfoucher.com
X-WR-CALDESC:Évènements pour Gérard Foucher
BEGIN:VEVENT
DTSTART;TZID=Europe/Paris:20151117T080000
DTEND;TZID=Europe/Paris:20151117T170000
DTSTAMP:20260423T052739
CREATED:20151117T092124Z
LAST-MODIFIED:20151117T092124Z
UID:4157-1447747200-1447779600@gerardfoucher.com
SUMMARY:Conférence à La Villette\, Paris
DESCRIPTION:Conférence à La Villette \nMonnaies libres \n5 décembre à 15 heures a La Villette. \n  \n  \n
URL:https://gerardfoucher.com/event/conference-a-la-villette-paris/
END:VEVENT
END:VCALENDAR