BEGIN:VCALENDAR
VERSION:2.0
PRODID:-//Gérard Foucher - ECPv4.7.4//NONSGML v1.0//EN
CALSCALE:GREGORIAN
METHOD:PUBLISH
X-WR-CALNAME:Gérard Foucher
X-ORIGINAL-URL:https://gerardfoucher.com
X-WR-CALDESC:Évènements pour Gérard Foucher
BEGIN:VEVENT
DTSTART;TZID=Europe/Paris:20160910T100000
DTEND;TZID=Europe/Paris:20160910T130000
DTSTAMP:20260424T052637
CREATED:20160908T173552Z
LAST-MODIFIED:20160909T080208Z
UID:4364-1473501600-1473512400@gerardfoucher.com
SUMMARY:Conférence à Liège (Belgique)
DESCRIPTION:Conférence à Liège (Belgique)\nMaison de Quartier\, rue Pierreuse à Liège\n10h30\n\n\n\n\nJudith Van Parys    Responsable de la vie coopérative \nj.vanparys@newb.coop \nwww.newb.coop     \ntel +32 2 225 44 76\n\n\nTwitter : @Newb_coop #newbcoop \nFacebook : www.facebook.com/newb.coop \nKruidtuinstraat 75\, 1210 Brussel – Rue Botanique 75\, 1210 Bruxelles\n\n\n\n\n\n\n\n\n\n\n  \nMaison de Quartier\, rue Pierreuse à Liège entre 10h30 et 13H\n\n\n\n\n \n
URL:https://gerardfoucher.com/event/conference-a-liege-belgique/
LOCATION:Maison de Quartier\, Rue Pierreuse\, Liège\, Belgium
END:VEVENT
END:VCALENDAR