BEGIN:VCALENDAR
VERSION:2.0
PRODID:-//Gérard Foucher - ECPv4.7.4//NONSGML v1.0//EN
CALSCALE:GREGORIAN
METHOD:PUBLISH
X-WR-CALNAME:Gérard Foucher
X-ORIGINAL-URL:https://gerardfoucher.com
X-WR-CALDESC:Évènements pour Gérard Foucher
BEGIN:VEVENT
DTSTART;TZID=Europe/Paris:20160909T200000
DTEND;TZID=Europe/Paris:20160909T220000
DTSTAMP:20260424T035631
CREATED:20160908T173347Z
LAST-MODIFIED:20160908T173827Z
UID:4363-1473451200-1473458400@gerardfoucher.com
SUMMARY:Conférence à Verviers (Belgique)
DESCRIPTION:Conférence à Verviers (Belgique)\nà 20h\, organisée par\n\n\n\n\n         \nJudith Van Parys     \nResponsable de la vie coopérative \nj.vanparys@newb.coop \nwww.newb.coop     \ntel +32 2 225 44 76\n\n\nTwitter : @Newb_coop #newbcoop \nFacebook : www.facebook.com/newb.coop \nKruidtuinstraat 75\, 1210 Brussel – Rue Botanique 75\, 1210 Bruxelles\n\n\n\n \n
URL:https://gerardfoucher.com/event/conference-a-verviers/
END:VEVENT
END:VCALENDAR