BEGIN:VCALENDAR
VERSION:2.0
PRODID:-//Gérard Foucher - ECPv4.7.4//NONSGML v1.0//EN
CALSCALE:GREGORIAN
METHOD:PUBLISH
X-WR-CALNAME:Gérard Foucher
X-ORIGINAL-URL:https://gerardfoucher.com
X-WR-CALDESC:Évènements pour Gérard Foucher
BEGIN:VEVENT
DTSTART;VALUE=DATE:20140825
DTEND;VALUE=DATE:20140826
DTSTAMP:20260421T105053
CREATED:20140617T181024Z
LAST-MODIFIED:20140617T181355Z
UID:3894-1408924800-1409011199@gerardfoucher.com
SUMMARY:Conférence Gesticulée + Ateliers à La Bourboule
DESCRIPTION:Lundi 25 août : La Bourboule \nUniversités d’été du MEI (Mouvement Écologiste Indépendant) \n
URL:https://gerardfoucher.com/event/conference-ateliers/
LOCATION:La Bourboule\, 63150\, France
END:VEVENT
END:VCALENDAR