BEGIN:VCALENDAR
VERSION:2.0
PRODID:-//Gérard Foucher - ECPv4.7.4//NONSGML v1.0//EN
CALSCALE:GREGORIAN
METHOD:PUBLISH
X-WR-CALNAME:Gérard Foucher
X-ORIGINAL-URL:https://gerardfoucher.com
X-WR-CALDESC:Évènements pour Gérard Foucher
BEGIN:VEVENT
DTSTART;TZID=Europe/Paris:20141210T183000
DTEND;TZID=Europe/Paris:20141210T210000
DTSTAMP:20260422T060720
CREATED:20141204T211658Z
LAST-MODIFIED:20141204T212011Z
UID:4017-1418236200-1418245200@gerardfoucher.com
SUMMARY:Conférence "Changer la monnaie pour changer le monde"
DESCRIPTION:Conférence « Changer la monnaie pour changer le monde »\n  \nselon l’article 25 de la Déclaration Universelle des Droits de l’Homme\n  \nPérigueux\, 10 décembre 2014\, 18h30\nAmphithéâtre Jean Moulin \n12\, avenue Georges Pompidou\,\nPérigueux\, 24000\,\nFrance\n  \n  \n \n  \n  \n  \n  \n  \n
URL:https://gerardfoucher.com/event/conference-changer-la-monnaie-pour-changer-le-monde/
LOCATION:Amphithéâtre Jean Moulin\, 12\, avenue Georges Pompidou\, Périgueux\, 24000\, France
ORGANIZER;CN="Ligue%20des%20Droits%20de%20l%27Homme":MAILTO:ldh24perigueux@yahoo.fr
END:VEVENT
END:VCALENDAR