BEGIN:VCALENDAR
VERSION:2.0
PRODID:-//Gérard Foucher - ECPv4.7.4//NONSGML v1.0//EN
CALSCALE:GREGORIAN
METHOD:PUBLISH
X-WR-CALNAME:Gérard Foucher
X-ORIGINAL-URL:https://gerardfoucher.com
X-WR-CALDESC:Évènements pour Gérard Foucher
BEGIN:VEVENT
DTSTART;TZID=Europe/Paris:20140620T183000
DTEND;TZID=Europe/Paris:20140620T210000
DTSTAMP:20260421T065414
CREATED:20140617T175709Z
LAST-MODIFIED:20140617T185520Z
UID:3885-1403289000-1403298000@gerardfoucher.com
SUMMARY:Conférence-Débat à Paris 10ème\, Centre Paris des Faubourgs
DESCRIPTION:Vendredi 20 juin\, 18h30 : Conférence-Débat Gesticulée à Paris 10ème. \nCentre Paris des Faubourgs\, 12 Rue Léon Schwartzenberg\, 75010 Paris \n  \nCentre social et culturel Le Pari’s des Faubourgs\,\n12 rue Léon Schwartzenberg 75010 ¨Paris.\nM° Gare de l’Est\nAccès par la rue de la Cour de la Ferme St Lazare\n  \nL’évènement sur Facebook : https://www.facebook.com/events/1439392322996431 \n  \n \n  \n  \n
URL:https://gerardfoucher.com/event/conference-debat-a-paris-10eme/
LOCATION:Centre Paris des Faubourgs\, 12 Rue Léon Schwartzenberg\, Paris\, 75010\, France
ORGANIZER;CN="Centre%20Paris%20des%20Faubourgs":MAILTO:accueil@lepfb.net
END:VEVENT
END:VCALENDAR