BEGIN:VCALENDAR
VERSION:2.0
PRODID:-//Gérard Foucher - ECPv4.7.4//NONSGML v1.0//EN
CALSCALE:GREGORIAN
METHOD:PUBLISH
X-WR-CALNAME:Gérard Foucher
X-ORIGINAL-URL:https://gerardfoucher.com
X-WR-CALDESC:Évènements pour Gérard Foucher
BEGIN:VEVENT
DTSTART;TZID=Europe/Paris:20141111T170000
DTEND;TZID=Europe/Paris:20141111T190000
DTSTAMP:20260421T210000
CREATED:20140625T220129Z
LAST-MODIFIED:20141013T210504Z
UID:3908-1415725200-1415732400@gerardfoucher.com
SUMMARY:Conférence - Débat au Salon Marjolaine à Vincennes
DESCRIPTION:Conférence – Débat au Salon Marjolaine à Vincennes \nPrésentation courte (env. 15mn) sur « Les secrets de la monnaie – Changer la monnaie pour changer le monde » suivie d’un table ronde : \n« L’économie circulaire et collaborative : des actes citoyens » \navec \nLaétitia Grossemy/Share Voisins\, Catherine Simon/Incroyables Comestibles\, et Borne de Presse. \nmardi 11 novembre à 17h00 \n http://www.salon-marjolaine.com/ \n  \nMétro : Château de Vincennes (ligne 1)\nNavettes gratuites au métro Château de Vincennes\, sortie 3 (tête de rame) \nBus : 112 (arrêts Parc Floral\, stade Léo Lagrange\, Plaine de la Faluère) \nEn voiture : Parking gratuit autour de l’entrée du Parc Floral.\n\n \n
URL:https://gerardfoucher.com/event/conference-debat-au-salon-marjolaine-a-vincennes/
LOCATION:Salon Marjolaine\, Parc Floral de Paris\, Paris\, 75012\, France
END:VEVENT
END:VCALENDAR