BEGIN:VCALENDAR
VERSION:2.0
PRODID:-//Gérard Foucher - ECPv4.7.4//NONSGML v1.0//EN
CALSCALE:GREGORIAN
METHOD:PUBLISH
X-WR-CALNAME:Gérard Foucher
X-ORIGINAL-URL:https://gerardfoucher.com
X-WR-CALDESC:Évènements pour Gérard Foucher
BEGIN:VEVENT
DTSTART;TZID=Europe/Paris:20150627T150000
DTEND;TZID=Europe/Paris:20150627T170000
DTSTAMP:20260422T161016
CREATED:20150616T115443Z
LAST-MODIFIED:20150623T205325Z
UID:4119-1435417200-1435424400@gerardfoucher.com
SUMMARY:Conférence - Débat dans le Tarn
DESCRIPTION:\n  \nFête de juin !\n\nSamedi 27 juin\, Conférence – Débat à 15h\n\nà Tirequeue\, (Labastide Rouairoux – 81270)\, chez Maria et Jonathan !\n  \n  \n\n \n
URL:https://gerardfoucher.com/event/conference-debat-dans-le-tarn/
LOCATION:Tirequeue\, 1\, route des verreries\, Labastide Rouairoux\, 81270\, France
ORGANIZER;CN="Tirequeue":MAILTO:info@tirequeue.org
END:VEVENT
END:VCALENDAR