BEGIN:VCALENDAR
VERSION:2.0
PRODID:-//Gérard Foucher - ECPv4.7.4//NONSGML v1.0//EN
CALSCALE:GREGORIAN
METHOD:PUBLISH
X-WR-CALNAME:Gérard Foucher
X-ORIGINAL-URL:https://gerardfoucher.com
X-WR-CALDESC:Évènements pour Gérard Foucher
BEGIN:VEVENT
DTSTART;TZID=Europe/Paris:20140823T140000
DTEND;TZID=Europe/Paris:20140823T170000
DTSTAMP:20260421T104726
CREATED:20140617T180625Z
LAST-MODIFIED:20140625T215439Z
UID:3891-1408802400-1408813200@gerardfoucher.com
SUMMARY:Conférence Gesticulée à Périgueux
DESCRIPTION:Dans le cadre des Universités d’État du Mouvement Français pour le Revenu de Base \nhttp://universite.revenudebase.info/ \n\n  \nLycée Agricole La Peyrouse\n113 Avenue Winston Churchill 24660 Coulounieix-Chamiers (limitrophe de Périgueux) \n
URL:https://gerardfoucher.com/event/conference-gesticulee-a-perigueux/
LOCATION:Lycée Agricole La Peyrouse\, 113 Avenue Winston Churchill\, Coulounieix-Chamiers\, 24660\, France
ORGANIZER;CN="Mouvement%20Fran%C3%A7ais%20pour%20un%20Revenu%20de%20Base":MAILTO:universite-ete@revenudebase.info
END:VEVENT
END:VCALENDAR