BEGIN:VCALENDAR
VERSION:2.0
PRODID:-//Gérard Foucher - ECPv4.7.4//NONSGML v1.0//EN
CALSCALE:GREGORIAN
METHOD:PUBLISH
X-WR-CALNAME:Gérard Foucher
X-ORIGINAL-URL:https://gerardfoucher.com
X-WR-CALDESC:Évènements pour Gérard Foucher
BEGIN:VEVENT
DTSTART;TZID=Europe/Paris:20160211T210000
DTEND;TZID=Europe/Paris:20160211T230000
DTSTAMP:20260423T105352
CREATED:20160126T223306Z
LAST-MODIFIED:20160126T223306Z
UID:4207-1455224400-1455231600@gerardfoucher.com
SUMMARY:Conférence sur Mumble
DESCRIPTION:Un nouveau concept lancé par Daniel Vienne et son équipe : des conférences en live sur Internet avec l’appli « Mumble ». \n1. Une présentation de 40mn environ \n2. Questions – Réponses avec le public \n  \nAujourd’hui : \nLes Secrets de la monnaie : Peut-on les comprendre\, et peut-on vraiment « Changer la monnaie pour changer le monde » ? \n  \n \n
URL:https://gerardfoucher.com/event/conference-sur-mumble/
LOCATION:« Ensemble »\, Mumble>>Serveurs>>Connexion>>AjouterNouveau>>Ensemble\, Monde Entier
END:VEVENT
END:VCALENDAR