BEGIN:VCALENDAR
VERSION:2.0
PRODID:-//Gérard Foucher - ECPv4.7.4//NONSGML v1.0//EN
CALSCALE:GREGORIAN
METHOD:PUBLISH
X-WR-CALNAME:Gérard Foucher
X-ORIGINAL-URL:https://gerardfoucher.com
X-WR-CALDESC:Évènements pour Gérard Foucher
BEGIN:VEVENT
DTSTART;TZID=Europe/Paris:20150607T170000
DTEND;TZID=Europe/Paris:20150607T190000
DTSTAMP:20260422T130347
CREATED:20150511T212453Z
LAST-MODIFIED:20150604T194456Z
UID:4085-1433696400-1433703600@gerardfoucher.com
SUMMARY:Evénement : le 7 juin 2015 (17 h)\, conférence sur LES SECRETS DE LA MONNAIE\, par Gérard Foucher - Bray-sur-Seine\, La Halle.
DESCRIPTION:Evénement :\nle 7 juin 2015 (17 h)\, conférence sur LES SECRETS DE LA MONNAIE\, par Gérard Foucher. Bray-sur-Seine\, La Halle.\n\n  \n \n  \n  \n \n  \n  \n  \n
URL:https://gerardfoucher.com/event/evenement-le-7-juin-2015-17-h-conference-sur-les-secrets-de-la-monnaie-par-gerard-foucher-bray-sur-seine-la-halle/
LOCATION:La Halle\, Grande Rue \, Bray sur Seine\, 77480\, France
ORGANIZER;CN="Le%20Phare":MAILTO:phasecitoyenne@yahoo.fr
END:VEVENT
END:VCALENDAR