BEGIN:VCALENDAR
VERSION:2.0
PRODID:-//Gérard Foucher - ECPv4.7.4//NONSGML v1.0//EN
CALSCALE:GREGORIAN
METHOD:PUBLISH
X-WR-CALNAME:Gérard Foucher
X-ORIGINAL-URL:https://gerardfoucher.com
X-WR-CALDESC:Évènements pour Gérard Foucher
BEGIN:VEVENT
DTSTART;VALUE=DATE:20141101
DTEND;VALUE=DATE:20141103
DTSTAMP:20260421T210401
CREATED:20141013T205206Z
LAST-MODIFIED:20141013T205206Z
UID:3982-1414800000-1414972799@gerardfoucher.com
SUMMARY:Festival autogéré des alternatives - Ferme des Bouillons\, Rouen
DESCRIPTION:Conférence Gesticulée – « Les secrets de la monnaie – Changer le monnaie pour changer le monde » \n
URL:https://gerardfoucher.com/event/festival-autogere-des-alternatives-ferme-des-bouillons-rouen/
LOCATION:Ferme des Bouillons\, Chemin des Bouillons\, Mont-Saint-Aignan\, 76130
END:VEVENT
END:VCALENDAR