BEGIN:VCALENDAR
VERSION:2.0
PRODID:-//Gérard Foucher - ECPv4.7.4//NONSGML v1.0//EN
CALSCALE:GREGORIAN
METHOD:PUBLISH
X-WR-CALNAME:Gérard Foucher
X-ORIGINAL-URL:https://gerardfoucher.com
X-WR-CALDESC:Évènements pour Gérard Foucher
BEGIN:VEVENT
DTSTART;TZID=Europe/Paris:20150707T080000
DTEND;TZID=Europe/Paris:20150709T170000
DTSTAMP:20260422T174532
CREATED:20150604T201224Z
LAST-MODIFIED:20150604T201603Z
UID:4103-1436256000-1436461200@gerardfoucher.com
SUMMARY:Festival de Villereal 
DESCRIPTION:7ème Edition.\nPour la septième année consécutive\, le Festival de Villeréal va accueillir des artistes en résidence pendant six semaines dans le village. \nLes 7\, 8 et 9 Juillet : LA MONNAIE ET LE REVENU DE BASE\nNous avions commencé à nous intéresser à l’économie l’année dernière et nous avons décidé de poursuivre l’enquête cette fois-ci sur un sujet plus spécifique : la monnaie. Nous l’utilisons tous les jours\, il paraît même qu’elle dirige le monde. Mais qui la crée ? Est-ce la même monnaie dans ma poche\, à la banque\, à la bourse ? Quelles différences ? \nTélécharger le programme du festival \n  \n  \n  \n
URL:https://gerardfoucher.com/event/festival-de-villereal/
LOCATION:Unnamed Venue\, Villereal\, 47210
ORGANIZER;CN="Samuel%20VITTOZ%20%28directeur%20associ%C3%A9%29":MAILTO:unfestivalavillereal@gmail.com
END:VEVENT
END:VCALENDAR