BEGIN:VCALENDAR
VERSION:2.0
PRODID:-//Gérard Foucher - ECPv4.7.4//NONSGML v1.0//EN
CALSCALE:GREGORIAN
METHOD:PUBLISH
X-WR-CALNAME:Gérard Foucher
X-ORIGINAL-URL:https://gerardfoucher.com
X-WR-CALDESC:Évènements pour Gérard Foucher
BEGIN:VEVENT
DTSTART;VALUE=DATE:20141116
DTEND;VALUE=DATE:20141117
DTSTAMP:20260422T002846
CREATED:20141013T205937Z
LAST-MODIFIED:20141013T205937Z
UID:3988-1416096000-1416182399@gerardfoucher.com
SUMMARY:Fête des échanges - Paris 20ème
DESCRIPTION:Conférence Gesticulée « Les secrets de la monnaie – Changer la monnaie pour changer le monde » \n
URL:https://gerardfoucher.com/event/fete-des-echanges-paris-20eme/
LOCATION:Fête des échanges\, Place de la Réunion\, Paris\, 75020\, France
END:VEVENT
END:VCALENDAR