BEGIN:VCALENDAR
VERSION:2.0
PRODID:-//Gérard Foucher - ECPv4.7.4//NONSGML v1.0//EN
CALSCALE:GREGORIAN
METHOD:PUBLISH
X-WR-CALNAME:Gérard Foucher
X-ORIGINAL-URL:https://gerardfoucher.com
X-WR-CALDESC:Évènements pour Gérard Foucher
BEGIN:VEVENT
DTSTART;TZID=Europe/Paris:20150323T080000
DTEND;TZID=Europe/Paris:20150328T170000
DTSTAMP:20260422T093415
CREATED:20150311T235810Z
LAST-MODIFIED:20150312T001524Z
UID:4044-1427097600-1427562000@gerardfoucher.com
SUMMARY:Forum Social Mondial à Tunis
DESCRIPTION:\nDu 24 au 26 mars\, je serai présent avec Carole Fabre et Mathieu Bize au Forum Social Mondial à Tunis pour des conférences\, ateliers et rencontres avec 40.000 personnes venues du monde entier. \n  \nTous les acteurs de la transition sociale\, économique\, politique seront là ! \n  \nTous les détails de cet évènement sont disponibles ICI. \nVous pouvez nous aider à financer les frais de ce déplacement (outils de communication\, inscription au Forum\, location de stand\, frais de déplacement et de séjour…) en participant à la campagne de financement participatif et citoyen que vous trouverez sur cette page Leetchi. \n  \nSi vous avez des questions à poser\, des contacts à prendre\, des missions à confier\, n’hésitez pas à nous contacter.  \nMerci ! \n  \n  \n \n  \n  \n  \n  \n  \n  \n  \n  \n  \n  \n  \n  \n  \n  \n  \n
URL:https://gerardfoucher.com/event/forum-social-mondial-a-tunis/
LOCATION:Université de Tunis El Manar\, Campus Universitaire Tunis  B.P. n° 94 - ROMMANA 1068\, Tunisie \, Tunis\, 1068\, Tunisia
END:VEVENT
END:VCALENDAR