BEGIN:VCALENDAR
VERSION:2.0
PRODID:-//Gérard Foucher - ECPv4.7.4//NONSGML v1.0//EN
CALSCALE:GREGORIAN
METHOD:PUBLISH
X-WR-CALNAME:Gérard Foucher
X-ORIGINAL-URL:https://gerardfoucher.com
X-WR-CALDESC:Évènements pour Gérard Foucher
BEGIN:VEVENT
DTSTART;TZID=Europe/Paris:20160929T080000
DTEND;TZID=Europe/Paris:20160929T220000
DTSTAMP:20260424T105634
CREATED:20160921T115602Z
LAST-MODIFIED:20160926T175030Z
UID:4393-1475136000-1475186400@gerardfoucher.com
SUMMARY:Journée Débat - Atelier - Projection à Dinan (Côtes-d’Armor)
DESCRIPTION: \nJe serai donc présent à Dinan toute la journée\, et nous serons très occupés ! À tout bientôt ! \n\nMatin : Rencontre-débat au marché de Dinan\nAprès-midi : Jeu de la Monnaie (voir description ici et là)\nSoirée : Projection-débat autour du film « Jeu de Société »\, de Guillaume Desjardins & Jérémy Bernard (voir la vidéo ici)\n\n  \n
URL:https://gerardfoucher.com/event/journee-debat-atelier-projection-a-dinan-cotes-darmor/
LOCATION:Dinan\, France
END:VEVENT
END:VCALENDAR