BEGIN:VCALENDAR
VERSION:2.0
PRODID:-//Gérard Foucher - ECPv4.7.4//NONSGML v1.0//EN
CALSCALE:GREGORIAN
METHOD:PUBLISH
X-WR-CALNAME:Gérard Foucher
X-ORIGINAL-URL:https://gerardfoucher.com
X-WR-CALDESC:Évènements pour Gérard Foucher
BEGIN:VEVENT
DTSTART;TZID=Europe/Paris:20141112T180000
DTEND;TZID=Europe/Paris:20141112T200000
DTSTAMP:20260421T224327
CREATED:20141013T205538Z
LAST-MODIFIED:20141107T122409Z
UID:3985-1415815200-1415822400@gerardfoucher.com
SUMMARY:"L'argent Citoyen" - Paris 10ème
DESCRIPTION: \n
URL:https://gerardfoucher.com/event/largent-citoyen-paris-10eme/
LOCATION:Paris des faubourgs\, 12 rue Léon Schwartzenberg\, Paris\, 75010\, France
ORGANIZER;CN="Centre%20social%20et%20culturel%20Le%20Pari%27s%20des%20Faubourgs":MAILTO:accueil@lepfb.net
END:VEVENT
END:VCALENDAR