BEGIN:VCALENDAR
VERSION:2.0
PRODID:-//Gérard Foucher - ECPv4.7.4//NONSGML v1.0//EN
CALSCALE:GREGORIAN
METHOD:PUBLISH
X-WR-CALNAME:Gérard Foucher
X-ORIGINAL-URL:https://gerardfoucher.com
X-WR-CALDESC:Évènements pour Gérard Foucher
BEGIN:VEVENT
DTSTART;TZID=Europe/Paris:20151125T210000
DTEND;TZID=Europe/Paris:20151125T230000
DTSTAMP:20260423T091526
CREATED:20151124T201344Z
LAST-MODIFIED:20151124T201602Z
UID:4159-1448485200-1448492400@gerardfoucher.com
SUMMARY:Projection-Débat à Saint-Ouen 93400
DESCRIPTION:Mercredi 25 novembre 2015\nMains D’oeuvres 1 rue Charles Garnier\, 93400 Saint-Ouen\nVoir l’évènement sur Facebook\n  \n \n
URL:https://gerardfoucher.com/event/projection-debat-a-saint-ouen/
LOCATION:Mains D’oeuvres\, 1 rue Charles Garnier\, Saint-Ouen\, 93400
END:VEVENT
END:VCALENDAR