BEGIN:VCALENDAR
VERSION:2.0
PRODID:-//Gérard Foucher - ECPv4.7.4//NONSGML v1.0//EN
CALSCALE:GREGORIAN
METHOD:PUBLISH
X-WR-CALNAME:Gérard Foucher
X-ORIGINAL-URL:https://gerardfoucher.com
X-WR-CALDESC:Évènements pour Gérard Foucher
BEGIN:VEVENT
DTSTART;TZID=Europe/Paris:20160308T180000
DTEND;TZID=Europe/Paris:20160308T210000
DTSTAMP:20260423T161750
CREATED:20160217T163904Z
LAST-MODIFIED:20160219T101357Z
UID:4233-1457460000-1457470800@gerardfoucher.com
SUMMARY:Bruxelles avec CAU Saint-Louis et le réseau belge pour le revenu de base inconditionnel
DESCRIPTION:  \nAnnonce sur Financité\n  \n  \n  \n
URL:https://gerardfoucher.com/event/tournee-en-belgique-bruxelles-avec-cau-saint-louis-et-le-reseau-belge-pour-le-revenu-de-base-inconditionnel/
LOCATION:Auditoire 5\, Université de Saint-Louis\, Blv du Jardin Botanique 43\, Bruxelles\, 1000\, Belgium
END:VEVENT
END:VCALENDAR