BEGIN:VCALENDAR
VERSION:2.0
PRODID:-//Gérard Foucher - ECPv4.7.4//NONSGML v1.0//EN
CALSCALE:GREGORIAN
METHOD:PUBLISH
X-WR-CALNAME:Gérard Foucher
X-ORIGINAL-URL:https://gerardfoucher.com
X-WR-CALDESC:Évènements pour Gérard Foucher
BEGIN:VEVENT
DTSTART;TZID=Europe/Paris:20160311T193000
DTEND;TZID=Europe/Paris:20160311T223000
DTSTAMP:20260423T211547
CREATED:20160217T164423Z
LAST-MODIFIED:20160219T101713Z
UID:4242-1457724600-1457735400@gerardfoucher.com
SUMMARY:Liège avec la monnaie citoyenne le Valeureux
DESCRIPTION:  \nAnnonce sur Financité\n  \n  \n  \n
URL:https://gerardfoucher.com/event/tournee-en-belgique-liege-avec-la-monnaie-citoyenne-le-valeureux/
LOCATION:L’Aquilone\, Boulevard Saucy 25\, Liège\, 4020\, Belgium
END:VEVENT
END:VCALENDAR